BEGIN:VCALENDAR
VERSION:2.0
PRODID:-//Tukios.com/
BEGIN:VEVENT
UID:1232d214-0f21-4b07-a081-d7cda44796ca@www.scottfuneralhometacoma.com
DTSTAMP:20260423T012425Z
DTSTART:20260516T200000Z
DTEND:20260516T230000Z
SUMMARY:Celebration of Life
DESCRIPTION:
URL:https://www.scottfuneralhometacoma.com/obituaries/alvin-brundage-jr
LOCATION:Meridian Grange 15422 Southeast 272nd Street  Kent WA 98042
GEO:47.3583147;-122.1351824
END:VEVENT
END:VCALENDAR