BEGIN:VCALENDAR
VERSION:2.0
PRODID:-//Tukios.com/
BEGIN:VEVENT
UID:7d2cf8bc-99be-433a-a539-c1e7a4a0b5f1@www.scottfuneralhometacoma.com
DTSTAMP:20260421T023026Z
DTSTART:20260425T170000Z
DTEND:20260425T180000Z
SUMMARY:Viewing
DESCRIPTION:
URL:https://www.scottfuneralhometacoma.com/obituaries/doris-rountree
LOCATION:St. John Church | Transformation Ministries International 2001 S 
	J St  Tacoma WA 98405
GEO:47.2427701;-122.4476048
END:VEVENT
END:VCALENDAR