BEGIN:VCALENDAR
VERSION:2.0
PRODID:-//Tukios.com/
BEGIN:VEVENT
UID:5c84917e-f29f-4c11-94f1-fd29aaceef6e@www.scottfuneralhometacoma.com
DTSTAMP:20260421T023222Z
DTSTART:20260425T180000Z
DTEND:20260425T190000Z
SUMMARY:Funeral Service
DESCRIPTION:
URL:https://www.scottfuneralhometacoma.com/obituaries/doris-rountree
LOCATION: 2001 S J St  Tacoma WA 98405
GEO:47.2427701;-122.4476048
END:VEVENT
END:VCALENDAR