BEGIN:VCALENDAR
VERSION:2.0
PRODID:-//Tukios.com/
BEGIN:VEVENT
UID:5f9c8d52-7ee5-452c-a436-139895191212@www.scottfuneralhometacoma.com
DTSTAMP:20260421T022856Z
DTSTART:20260427T170000Z
DTEND:20260427T173000Z
SUMMARY:Burial
DESCRIPTION:
URL:https://www.scottfuneralhometacoma.com/obituaries/doris-rountree
LOCATION: 18600 SE 240th St  Kent WA 98042
GEO:47.3882921;-122.095443
END:VEVENT
END:VCALENDAR